BEGIN:VCALENDAR
VERSION:2.0
PRODID:-//Polskie Stowarzyszenie Klas Radio Jachtingu - ECPv6.15.20//NONSGML v1.0//EN
CALSCALE:GREGORIAN
METHOD:PUBLISH
X-ORIGINAL-URL:https://pskrj.pl
X-WR-CALDESC:Wydarzenia dla Polskie Stowarzyszenie Klas Radio Jachtingu
REFRESH-INTERVAL;VALUE=DURATION:PT1H
X-Robots-Tag:noindex
X-PUBLISHED-TTL:PT1H
BEGIN:VTIMEZONE
TZID:Europe/Warsaw
BEGIN:DAYLIGHT
TZOFFSETFROM:+0100
TZOFFSETTO:+0200
TZNAME:CEST
DTSTART:20250330T010000
END:DAYLIGHT
BEGIN:STANDARD
TZOFFSETFROM:+0200
TZOFFSETTO:+0100
TZNAME:CET
DTSTART:20251026T010000
END:STANDARD
BEGIN:DAYLIGHT
TZOFFSETFROM:+0100
TZOFFSETTO:+0200
TZNAME:CEST
DTSTART:20260329T010000
END:DAYLIGHT
BEGIN:STANDARD
TZOFFSETFROM:+0200
TZOFFSETTO:+0100
TZNAME:CET
DTSTART:20261025T010000
END:STANDARD
BEGIN:DAYLIGHT
TZOFFSETFROM:+0100
TZOFFSETTO:+0200
TZNAME:CEST
DTSTART:20270328T010000
END:DAYLIGHT
BEGIN:STANDARD
TZOFFSETFROM:+0200
TZOFFSETTO:+0100
TZNAME:CET
DTSTART:20271031T010000
END:STANDARD
END:VTIMEZONE
BEGIN:VEVENT
DTSTART;TZID=Europe/Warsaw:20260905T080000
DTEND;TZID=Europe/Warsaw:20260906T140000
DTSTAMP:20260421T132454
CREATED:20250118T080637Z
LAST-MODIFIED:20260404T115936Z
UID:6291-1788595200-1788703200@pskrj.pl
SUMMARY:KRAKÓW
DESCRIPTION:IOM
URL:https://pskrj.pl/event/krakow/
LOCATION:Kraków\, Kozia 22\, Kraków\, Małopolskie\, 30-733\, Poland
END:VEVENT
BEGIN:VEVENT
DTSTART;TZID=Europe/Warsaw:20260911T080000
DTEND;TZID=Europe/Warsaw:20260913T140000
DTSTAMP:20260421T132454
CREATED:20250118T080821Z
LAST-MODIFIED:20260404T120026Z
UID:6294-1789113600-1789308000@pskrj.pl
SUMMARY:ŁĄCKO
DESCRIPTION:IOM – MP
URL:https://pskrj.pl/event/lacko-2/
LOCATION:Łącko\, Łącko 50B\, Łącko\, Zachodniopomorskie\, 76-106\, Poland
END:VEVENT
BEGIN:VEVENT
DTSTART;TZID=Europe/Warsaw:20260925T080000
DTEND;TZID=Europe/Warsaw:20260927T140000
DTSTAMP:20260421T132454
CREATED:20250118T081654Z
LAST-MODIFIED:20260404T120228Z
UID:6301-1790323200-1790517600@pskrj.pl
SUMMARY:WŁOCŁAWEK
DESCRIPTION:10R – MP – PUCHAR EUROPY
URL:https://pskrj.pl/event/wloclawek-4/
LOCATION:Włocławek\, Płocka 187\, Włocławek\, Kujawsko-Pomorskie\, 87-800\, Poland
END:VEVENT
END:VCALENDAR